BEGIN:VCALENDAR
VERSION:2.0
PRODID:-//AMS//NONSGML v1.0//EN
BEGIN:VEVENT
DTSTAMP:20240212T000000
DTSTART:20241208T000000
DTEND:20241211T000000
SUMMARY:Asian Technology Conference in Mathematics
DESCRIPTION:Asian Technology Conference in Mathematics http://www.atcm.mathandtech.org/
END:VEVENT
END:VCALENDAR
