BEGIN:VCALENDAR
VERSION:2.0
PRODID:-//AMS//NONSGML v1.0//EN
BEGIN:VEVENT
DTSTAMP:20240212T000000
DTSTART:20240611T000000
DTEND:20240614T000000
SUMMARY:RaTLoCC24 - Ramsey Theory in Logic, Combinatorics and Complexity
DESCRIPTION:RaTLoCC24 - Ramsey Theory in Logic, Combinatorics and Complexity http://sites.google.com/uniroma1.it/lomec/events/ratlocc
END:VEVENT
END:VCALENDAR
