BEGIN:VCALENDAR
VERSION:2.0
PRODID:-//AMS//NONSGML v1.0//EN
BEGIN:VEVENT
DTSTAMP:20240209T000000
DTSTART:20240207T000000
DTEND:20240207T000000
SUMMARY:CMSA/Tsinghua Math-Science Literature Lecture Title: Stretching and shrinking: 85 years of the Hopf argument for ergodicity Speaker: Amie Wilkinson, Professor of Mathematics, University of Chicago
DESCRIPTION:CMSA/Tsinghua Math-Science Literature Lecture Title: Stretching and shrinking: 85 years of the Hopf argument for ergodicity Speaker: Amie Wilkinson, Professor of Mathematics, University of Chicago http://cmsa.fas.harvard.edu/event/mathscilit2024_aw
END:VEVENT
END:VCALENDAR
