BEGIN:VCALENDAR
VERSION:2.0
PRODID:-//AMS//NONSGML v1.0//EN
BEGIN:VEVENT
DTSTAMP:20240212T000000
DTSTART:20240722T000000
DTEND:20240726T000000
SUMMARY:WARTHOG: Coherent-constructible equivalences in local geometric Langlands and representation theory
DESCRIPTION:WARTHOG: Coherent-constructible equivalences in local geometric Langlands and representation theory http://pages.uoregon.edu/belias/WARTHOG/CohVsCon/
END:VEVENT
END:VCALENDAR
