BEGIN:VCALENDAR
VERSION:2.0
PRODID:-//AMS//NONSGML v1.0//EN
BEGIN:VEVENT
DTSTAMP:20240212T000000
DTSTART:20240531T000000
DTEND:20240602T000000
SUMMARY:International Conference on Differential Equations: Theory & Applications (ICDE)
DESCRIPTION:International Conference on Differential Equations: Theory & Applications (ICDE) http://www.fgcu.edu/cas/departments/math/icde/
END:VEVENT
END:VCALENDAR
