BEGIN:VCALENDAR
VERSION:2.0
PRODID:-//AMS//NONSGML v1.0//EN
BEGIN:VEVENT
DTSTAMP:20240212T000000
DTSTART:20240701T000000
DTEND:20240705T000000
SUMMARY:Lie groups, geometry, integrability, hydrodynamics
DESCRIPTION:Lie groups, geometry, integrability, hydrodynamics http://sites.google.com/view/slcc2024
END:VEVENT
END:VCALENDAR
