BEGIN:VCALENDAR
VERSION:2.0
PRODID:-//AMS//NONSGML v1.0//EN
BEGIN:VEVENT
DTSTAMP:20240212T000000
DTSTART:20240701T000000
DTEND:20240705T000000
SUMMARY:Representations of supergroups
DESCRIPTION:Representations of supergroups http://www.mathematics.uni-bonn.de/hcm/events/workshops-conferences/wks_2024_0 7_01
END:VEVENT
END:VCALENDAR
