BEGIN:VCALENDAR
VERSION:2.0
PRODID:-//AMS//NONSGML v1.0//EN
BEGIN:VEVENT
DTSTAMP:20240212T000000
DTSTART:20240603T000000
DTEND:20240607T000000
SUMMARY:The Many Combinatorial Legacies of Richard P. Stanley: Immense Birthday Glory of the Epic Catalonian Rascal
DESCRIPTION:The Many Combinatorial Legacies of Richard P. Stanley: Immense Birthday Glory of the Epic Catalonian Rascal http://www.math.harvard.edu/event/math-conference-honoring-richard-p-stanley/
END:VEVENT
END:VCALENDAR
