BEGIN:VCALENDAR
VERSION:2.0
PRODID:-//AMS//NONSGML v1.0//EN
BEGIN:VEVENT
DTSTAMP:20240212T000000
DTSTART:20240605T000000
DTEND:20240607T000000
SUMMARY:Perspectives in PDEs, Global and Functional Analysis
DESCRIPTION:Perspectives in PDEs, Global and Functional Analysis http://sites.google.com/view/gg60conference/home
END:VEVENT
END:VCALENDAR
