BEGIN:VCALENDAR
VERSION:2.0
PRODID:-//AMS//NONSGML v1.0//EN
BEGIN:VEVENT
DTSTAMP:20240212T000000
DTSTART:20240413T000000
DTEND:20240413T000000
SUMMARY:The 2nd International Mathematics and Statistics Student Research Symposium
DESCRIPTION:The 2nd International Mathematics and Statistics Student Research Symposium http://sites.google.com/view/imssrs/home
END:VEVENT
END:VCALENDAR
