BEGIN:VCALENDAR
VERSION:2.0
PRODID:-//AMS//NONSGML v1.0//EN
BEGIN:VEVENT
DTSTAMP:20240212T000000
DTSTART:20240617T000000
DTEND:20240628T000000
SUMMARY:Microlocal Analysis and Quantum Dynamics
DESCRIPTION:Microlocal Analysis and Quantum Dynamics http://sites.northwestern.edu/dynamicsrtg/maqd-2024/
END:VEVENT
END:VCALENDAR
