BEGIN:VCALENDAR
VERSION:2.0
PRODID:-//AMS//NONSGML v1.0//EN
BEGIN:VEVENT
DTSTAMP:20240212T000000
DTSTART:20240729T000000
DTEND:20240802T000000
SUMMARY:NU Trends in Ergodic Theory Summer School
DESCRIPTION:NU Trends in Ergodic Theory Summer School http://sites.northwestern.edu/dynamicsrtg/nuet-2024/
END:VEVENT
END:VCALENDAR
