BEGIN:VCALENDAR
VERSION:2.0
PRODID:-//AMS//NONSGML v1.0//EN
BEGIN:VEVENT
DTSTAMP:20240212T000000
DTSTART:20240805T000000
DTEND:20240810T000000
SUMMARY:VIASM Summer School in Mathematical Physics
DESCRIPTION:VIASM Summer School in Mathematical Physics http://viasm.edu.vn/en/hdkh/math-phys-2024-en
END:VEVENT
END:VCALENDAR
