BEGIN:VCALENDAR
VERSION:2.0
PRODID:-//AMS//NONSGML v1.0//EN
BEGIN:VEVENT
DTSTAMP:20240212T000000
DTSTART:20240325T000000
DTEND:20240327T000000
SUMMARY:Mathematics M\"unster Mid-term Conference
DESCRIPTION:Mathematics M\"unster Mid-term Conference http://www.uni-muenster.de/MathematicsMuenster/go/Midterm2024
END:VEVENT
END:VCALENDAR
