BEGIN:VCALENDAR
VERSION:2.0
PRODID:-//AMS//NONSGML v1.0//EN
BEGIN:VEVENT
DTSTAMP:20240212T000000
DTSTART:20240520T000000
DTEND:20240524T000000
SUMMARY:Mathematical Methods for Novel Metamaterials
DESCRIPTION:Mathematical Methods for Novel Metamaterials http://www.auburn.edu/cosam/cbms2024/index.htm
END:VEVENT
END:VCALENDAR
