BEGIN:VCALENDAR
VERSION:2.0
PRODID:-//AMS//NONSGML v1.0//EN
BEGIN:VEVENT
DTSTAMP:20240212T000000
DTSTART:20240520T000000
DTEND:20240524T000000
SUMMARY:Workshop IV: Vertex Models: Algebraic and Probabilistic Aspects of Universality
DESCRIPTION:Workshop IV: Vertex Models: Algebraic and Probabilistic Aspects of Universality http://www.ipam.ucla.edu/programs/workshops/workshop-iv-vertex-models-algebrai c-and-probabilistic-aspects-of-universality/?tab=application-registration
END:VEVENT
END:VCALENDAR
