BEGIN:VCALENDAR
VERSION:2.0
PRODID:-//AMS//NONSGML v1.0//EN
BEGIN:VEVENT
DTSTAMP:20240212T000000
DTSTART:20240603T000000
DTEND:20240607T000000
SUMMARY:Inverse Problems and Nonlinearity
DESCRIPTION:Inverse Problems and Nonlinearity http://sites.google.com/view/cbmsclemson2024
END:VEVENT
END:VCALENDAR
