BEGIN:VCALENDAR
VERSION:2.0
PRODID:-//AMS//NONSGML v1.0//EN
BEGIN:VEVENT
DTSTAMP:20240212T000000
DTSTART:20240708T000000
DTEND:20240712T000000
SUMMARY:Alhambra PDE days
DESCRIPTION:Alhambra PDE days http://personal.us.es/mmagliocca/APD/alhambrapdedays.html#home
END:VEVENT
END:VCALENDAR
