BEGIN:VCALENDAR
VERSION:2.0
PRODID:-//AMS//NONSGML v1.0//EN
BEGIN:VEVENT
DTSTAMP:20240212T000000
DTSTART:20240413T000000
DTEND:20240414T000000
SUMMARY:Kansas Mathematics Graduate Student Conference
DESCRIPTION:Kansas Mathematics Graduate Student Conference http://sites.google.com/view/kmgsc/current-kmgsc
END:VEVENT
END:VCALENDAR
