BEGIN:VCALENDAR
VERSION:2.0
PRODID:-//AMS//NONSGML v1.0//EN
BEGIN:VEVENT
DTSTAMP:20240212T000000
DTSTART:20240517T000000
DTEND:20240519T000000
SUMMARY:St. Louis Topology Conference
DESCRIPTION:St. Louis Topology Conference http://sites.google.com/view/stltc/home
END:VEVENT
END:VCALENDAR
