BEGIN:VCALENDAR
VERSION:2.0
PRODID:-//AMS//NONSGML v1.0//EN
BEGIN:VEVENT
DTSTAMP:20240212T000000
DTSTART:20240902T000000
DTEND:20240906T000000
SUMMARY:5th The Cape Verde International Days on Mathematics, CVIM'2024
DESCRIPTION:5th The Cape Verde International Days on Mathematics, CVIM'2024 http://sites.google.com/view/cvim24
END:VEVENT
END:VCALENDAR
