BEGIN:VCALENDAR
VERSION:2.0
PRODID:-//AMS//NONSGML v1.0//EN
BEGIN:VEVENT
DTSTAMP:20240212T000000
DTSTART:20240220T000000
DTEND:20240222T000000
SUMMARY:Math Science Lectures in Honor of Raoul Bott: Maggie Miller: Fibered ribbon knots vs. major 4D conjectures
DESCRIPTION:Math Science Lectures in Honor of Raoul Bott: Maggie Miller: Fibered ribbon knots vs. major 4D conjectures http://cmsa.fas.harvard.edu/event/mathscibott_2024/
END:VEVENT
END:VCALENDAR
