BEGIN:VCALENDAR
VERSION:2.0
PRODID:-//AMS//NONSGML v1.0//EN
BEGIN:VEVENT
DTSTAMP:20240212T000000
DTSTART:20240805T000000
DTEND:20240817T000000
SUMMARY:Analysis and Mathematical Physics
DESCRIPTION:Analysis and Mathematical Physics http://www.iimas.unam.mx/amp2024/
END:VEVENT
END:VCALENDAR
