BEGIN:VCALENDAR
VERSION:2.0
PRODID:-//AMS//NONSGML v1.0//EN
BEGIN:VEVENT
DTSTAMP:20240212T000000
DTSTART:20240814T000000
DTEND:20240816T000000
SUMMARY:The fifth Information-Theoretic Cryptography (ITC) conference
DESCRIPTION:The fifth Information-Theoretic Cryptography (ITC) conference http://itcrypto.github.io/2024/index.html
END:VEVENT
END:VCALENDAR
