BEGIN:VCALENDAR
VERSION:2.0
PRODID:-//AMS//NONSGML v1.0//EN
BEGIN:VEVENT
DTSTAMP:20240212T000000
DTSTART:20240624T000000
DTEND:20240628T000000
SUMMARY:Trisectors Workshop 2024: Connections with Knotted Surfaces
DESCRIPTION:Trisectors Workshop 2024: Connections with Knotted Surfaces http://sites.google.com/view/tw2024
END:VEVENT
END:VCALENDAR
