BEGIN:VCALENDAR
VERSION:2.0
PRODID:-//AMS//NONSGML v1.0//EN
BEGIN:VEVENT
DTSTAMP:20240212T000000
DTSTART:20241007T000000
DTEND:20241011T000000
SUMMARY:20 Years of Anosov Representations
DESCRIPTION:20 Years of Anosov Representations http://www.mis.mpg.de/events/series/20-years-of-anosov-representations
END:VEVENT
END:VCALENDAR
